BEGIN:VCALENDAR
VERSION:2.0
PRODID:Events Booking
BEGIN:VEVENT
UID:69e8aa5fb86af
SUMMARY:PSYCH-K® Advanced - Sydney - June 20\, 2026
DESCRIPTION:If you enjoyed the Basic Workshop and want to learn more about 
 how to deepen your skills\, then the Advanced Integration Workshop is for 
 you. This course is recommended especially for those who plan to work more
  extensively with others\, either personally or professionally. Prerequisi
 te is the Basic Workshop.
LOCATION:Macquarie Hospital\,Wicks Rd\, North Ryde NSW 2113
DTSTART:20260620T090000Z
DTEND:20260623T180000Z
DTSTAMP:20251123T120928Z
ORGANIZER;CN=Ian Spicer:MAILTO:ianspicer@gmail.com
END:VEVENT
END:VCALENDAR